BEGIN:VCALENDAR
VERSION:2.0
PRODID:-//ChamberMaster//Event Calendar 2.0//EN
METHOD:PUBLISH
X-PUBLISHED-TTL:P3D
REFRESH-INTERVAL:P3D
CALSCALE:GREGORIAN
BEGIN:VEVENT
DTSTART:20140607T140000Z
DTEND:20140609T020000Z
X-MICROSOFT-CDO-ALLDAYEVENT:FALSE
SUMMARY:Modesto City Championship
DESCRIPTION:36 Hole Stroke Play Golf Tournament\nNCGA Points Event\nMen's\, Women's\, and Senior Flights\nOpen to all players with a May index
X-ALT-DESC;FMTTYPE=text/html:36 Hole Stroke Play Golf Tournament\nNCGA Points Event\nMen's\, Women's\, and Senior Flights\nOpen to all players with a May index
LOCATION:Creekside and Dryden Park GC's
UID:e.2695.456
SEQUENCE:3
DTSTAMP:20260423T002800Z
URL:https://business.modchamber.org/events/details/modesto-city-championship-06-07-2014-456
END:VEVENT

END:VCALENDAR
