BEGIN:VCALENDAR
VERSION:2.0
PRODID:-//ChamberMaster//Event Calendar 2.0//EN
METHOD:PUBLISH
X-PUBLISHED-TTL:P3D
REFRESH-INTERVAL:P3D
CALSCALE:GREGORIAN
BEGIN:VEVENT
DTSTART:20260515T183000Z
DTEND:20260515T200000Z
X-MICROSOFT-CDO-ALLDAYEVENT:FALSE
SUMMARY:Modesto Chamber of Commerce Government Relations Council
DESCRIPTION:The Governmental Relations Council (GRC) provides the nexus between members of the Chamber and elected and government officials who\, through either legislation or regulation\, may impact the bottom line of our members businesses.\n\n\n\nSpeaker(s): Rana Ghadban\, VP\, Small Business Advocate\, CalChamber
X-ALT-DESC;FMTTYPE=text/html:<span style="background-color: rgb(255\, 255\, 255)\;"><font face="Poppins\, sans-serif"><span style="font-size: 14px\;">The Governmental Relations Council (GRC) provides the nexus between members of the Chamber and elected and government officials who\, through either legislation or regulation\, may impact the bottom line of our members businesses.</span></font></span><br />\n<br />\nSpeaker(s): Rana Ghadban\, VP\, Small Business Advocate\, CalChamber
LOCATION:
UID:e.2695.13798
SEQUENCE:3
DTSTAMP:20260423T000334Z
URL:https://business.modchamber.org/events/details/modesto-chamber-of-commerce-government-relations-council-13798
END:VEVENT

END:VCALENDAR
