BEGIN:VCALENDAR
VERSION:2.0
PRODID:-//ChamberMaster//Event Calendar 2.0//EN
METHOD:PUBLISH
X-PUBLISHED-TTL:P3D
REFRESH-INTERVAL:P3D
CALSCALE:GREGORIAN
BEGIN:VEVENT
DTSTART:20150329T023000Z
DTEND:20150329T053000Z
X-MICROSOFT-CDO-ALLDAYEVENT:FALSE
SUMMARY:Modesto Chamber Night with the Stockton Thunder
DESCRIPTION:In an effort to showcase eco-friendly initiatives in the Central Valley\, the Stockton Thunder is hosting the seventh annual Covanta Energy Easy Being Green games\, which takes place on March 27 >Puck Drops at 7:30 PM !
X-ALT-DESC;FMTTYPE=text/html:In an effort to showcase eco-friendly initiatives in the Central Valley\, the Stockton Thunder is hosting the seventh annual Covanta Energy Easy Being Green games\, which takes place on March 27& 28\, 2015. \nOn Saturday\, March 28\, is Modesto Chamber night. Every member of the Modesto Chamber of Commerce will receive two (2) complimentary tickets to the game\, and each additional ticket is provided at an exclusive discounted rate ! </br>\n<font size="3"\;><strong>Puck Drops at 7:30 PM ! </strong></font>
LOCATION:Stockton Arena 248 W. Fremont Street Stockton\, Ca 95203
UID:e.2695.899
SEQUENCE:3
DTSTAMP:20260420T074144Z
URL:https://business.modchamber.org/events/details/modesto-chamber-night-with-the-stockton-thunder-03-28-2015-899
END:VEVENT

END:VCALENDAR
