BEGIN:VCALENDAR
VERSION:2.0
PRODID:-//ChamberMaster//Event Calendar 2.0//EN
METHOD:PUBLISH
X-PUBLISHED-TTL:P3D
REFRESH-INTERVAL:P3D
CALSCALE:GREGORIAN
BEGIN:VEVENT
DTSTART:20131010T190000Z
DTEND:20131010T200000Z
X-MICROSOFT-CDO-ALLDAYEVENT:FALSE
SUMMARY:Modesto Area Business Refunds & Credits
DESCRIPTION:For Modesto Area business owners and leaders that are tax payers and job creators\, here is a significant reward for all your hard work and all the families you support.\nThere are a number of programsthat will infuse cash back in your company for wages paid to employees you have hired in the last 5to 7 years.  The programs are mostly funded via tax credits and refunds.  They include all levels:federal / payroll\, state\, and local.\nA couple of the largest incentive programs are ending this year\, so now is the time to capture all of which you are entitled.\nJoin us for a luncheon that will explain what you are entitled to and how to secure your refunds and tax credits.\nPlease register hereas soon as possible as seating is limited.\nCost is free.  \nAny questions\, please call 800.935.8958
X-ALT-DESC;FMTTYPE=text/html:For Modesto Area business owners and leaders that are tax payers and job creators\, here is a significant reward for all your hard work and all the families you support.\nThere are a number of programsthat will infuse cash back in your company for wages paid to employees you have hired in the last 5to 7 years.  The programs are mostly funded via tax credits and refunds.  They include all levels:federal / payroll\, state\, and local.\nA couple of the largest incentive programs are ending this year\, so now is the time to capture all of which you are entitled.\nJoin us for a luncheon that will explain what you are entitled to and how to secure your refunds and tax credits.\nPlease register hereas soon as possible as seating is limited.\nCost is free.  \nAny questions\, please call 800.935.8958
LOCATION:Green's Market 953 10th St Modesto Modesto\, CA 95354
UID:e.2695.320
SEQUENCE:3
DTSTAMP:20260423T132510Z
URL:https://business.modchamber.org/events/details/modesto-area-business-refunds-credits-10-10-2013-320
END:VEVENT

END:VCALENDAR
