BEGIN:VCALENDAR
VERSION:2.0
PRODID:-//ChamberMaster//Event Calendar 2.0//EN
METHOD:PUBLISH
X-PUBLISHED-TTL:P3D
REFRESH-INTERVAL:P3D
CALSCALE:GREGORIAN
BEGIN:VEVENT
DTSTART:20150612T030000Z
DTEND:20150611T070000Z
X-MICROSOFT-CDO-ALLDAYEVENT:FALSE
SUMMARY:MoBand Concert in the Park
DESCRIPTION:"Cruise Control"\n\nThe annual summer concerts in the park series. Spread out your blankets\, bring a picnic and enjoy the sounds of MoBand. Admission is free and the concert begins at 8:00pm at Graceada Park\, get there early and enjoy.\nContact :	\nPhone :	\nEmail :	\nWeb Site :	www.moband.org
X-ALT-DESC;FMTTYPE=text/html:"Cruise Control"\n\nThe annual summer concerts in the park series. Spread out your blankets\, bring a picnic and enjoy the sounds of MoBand. Admission is free and the concert begins at 8:00pm at Graceada Park\, get there early and enjoy.\nContact :	\nPhone :	\nEmail :	\nWeb Site :	www.moband.org\n
LOCATION:Graceada Park 401 Needham Ave Modesto\, CA 95354
UID:e.2695.992
SEQUENCE:3
DTSTAMP:20260420T045641Z
URL:https://business.modchamber.org/events/details/moband-concert-in-the-park-06-11-2015-992
END:VEVENT

END:VCALENDAR
