BEGIN:VCALENDAR
VERSION:2.0
PRODID:-//ChamberMaster//Event Calendar 2.0//EN
METHOD:PUBLISH
X-PUBLISHED-TTL:P3D
REFRESH-INTERVAL:P3D
CALSCALE:GREGORIAN
BEGIN:VEVENT
DTSTART:20150228T040000Z
DTEND:20150227T080000Z
X-MICROSOFT-CDO-ALLDAYEVENT:FALSE
SUMMARY:MNJ Foundation presents Fridays Firsts
DESCRIPTION:MNJ foundation presents Fridays First at Jaobs Fine Dining  Live Music with Tomas Jay Experience (Jazz & Soul ) $10 before 11:00pm  Dress Code enforced  30 yr + older please
X-ALT-DESC;FMTTYPE=text/html:<DIV style="FONT-FAMILY: Arial">MNJ foundation presents Fridays First at Jaobs Fine Dining </DIV><DIV style="FONT-FAMILY: Arial">&nbsp\;</DIV><DIV style="FONT-FAMILY: Arial">Live Music with Tomas Jay Experience (Jazz &amp\; Soul ) </DIV><DIV style="FONT-FAMILY: Arial">$10 before 11:00pm </DIV><DIV style="FONT-FAMILY: Arial">&nbsp\;</DIV><DIV style="FONT-FAMILY: Arial">Dress Code enforced </DIV><DIV style="FONT-FAMILY: Arial">&nbsp\;</DIV><DIV style="FONT-FAMILY: Arial">30 yr&nbsp\;+ older please </DIV><DIV style="FONT-FAMILY: Arial">&nbsp\;</DIV><DIV style="FONT-FAMILY: Arial">&nbsp\;</DIV>
LOCATION:Jacobs Fine Dining 2501 McHenry Avenue Modesto\, CA 95350
UID:e.2695.521
SEQUENCE:3
DTSTAMP:20260422T090605Z
URL:https://business.modchamber.org/events/details/mnj-foundation-presents-fridays-firsts-02-27-2015-521
END:VEVENT

END:VCALENDAR
