BEGIN:VCALENDAR
VERSION:2.0
PRODID:-//ChamberMaster//Event Calendar 2.0//EN
METHOD:PUBLISH
X-PUBLISHED-TTL:P3D
REFRESH-INTERVAL:P3D
CALSCALE:GREGORIAN
BEGIN:VEVENT
DTSTART:20150207T040000Z
DTEND:20150206T080000Z
X-MICROSOFT-CDO-ALLDAYEVENT:FALSE
SUMMARY:MNJ Foundation presents Fridays Firsts
DESCRIPTION:MNJ foundation presents Fridays First at Jaobs Fine Dining  Live Music with Niecey & the Obamas ( Smooth R&B )  $10 before 11:00pm  Dress Code enforced  30 yr + older please
X-ALT-DESC;FMTTYPE=text/html:<DIV style="FONT-FAMILY: Arial">MNJ foundation presents Fridays First at Jaobs Fine Dining </DIV><DIV style="FONT-FAMILY: Arial">&nbsp\;</DIV><DIV style="FONT-FAMILY: Arial">Live Music with Niecey &amp\; the Obamas ( Smooth R&amp\;B ) </DIV><DIV style="FONT-FAMILY: Arial">&nbsp\;</DIV><DIV style="FONT-FAMILY: Arial">$10 before 11:00pm </DIV><DIV style="FONT-FAMILY: Arial">&nbsp\;</DIV><DIV style="FONT-FAMILY: Arial">Dress Code enforced </DIV><DIV style="FONT-FAMILY: Arial">&nbsp\;</DIV><DIV style="FONT-FAMILY: Arial">30 yr&nbsp\;+ older please </DIV><DIV style="FONT-FAMILY: Arial">&nbsp\;</DIV><DIV style="FONT-FAMILY: Arial">&nbsp\;</DIV>
LOCATION:Jacobs Fine Dining 2501 McHenry Avenue Modesto\, CA 95350
UID:e.2695.520
SEQUENCE:3
DTSTAMP:20260422T090706Z
URL:https://business.modchamber.org/events/details/mnj-foundation-presents-fridays-firsts-02-06-2015-520
END:VEVENT

END:VCALENDAR
