BEGIN:VCALENDAR
VERSION:2.0
PRODID:-//ChamberMaster//Event Calendar 2.0//EN
METHOD:PUBLISH
X-PUBLISHED-TTL:P3D
REFRESH-INTERVAL:P3D
CALSCALE:GREGORIAN
BEGIN:VEVENT
DTSTART:20141102T020000Z
DTEND:20141102T040000Z
X-MICROSOFT-CDO-ALLDAYEVENT:FALSE
SUMMARY:MNJ foundation Presents: AN ALL WHITE AFFAIR
DESCRIPTION:MNJ Foundation Presents: AN ALL WHITE AFFAIR  Featuring: The Bay Area's Best - NIECEY & THE OBAMAS  Previously opened for Howard Hewitt\, Tony Tone Toni\, The Whispers & The Spinners  For Tickets call 209-522-3800 Donation of $60.00 - Admits one for Dinner\, Fashion Show and Dancing  **No Host Bar
X-ALT-DESC;FMTTYPE=text/html:<DIV style="FONT-FAMILY: Arial">MNJ Foundation Presents: AN ALL WHITE AFFAIR </DIV><DIV style="FONT-FAMILY: Arial">&nbsp\;</DIV><DIV style="FONT-FAMILY: Arial">Featuring: The Bay Area's Best - NIECEY &amp\; THE OBAMAS </DIV><DIV style="FONT-FAMILY: Arial">&nbsp\;</DIV><DIV style="FONT-FAMILY: Arial">Previously opened for Howard Hewitt\, Tony Tone Toni\, The Whispers &amp\; The Spinners </DIV><DIV style="FONT-FAMILY: Arial">&nbsp\;</DIV><DIV style="FONT-FAMILY: Arial">For Tickets call 209-522-3800</DIV><DIV style="FONT-FAMILY: Arial">&nbsp\;</DIV><DIV style="FONT-FAMILY: Arial">Donation of $60.00 - Admits one for Dinner\, Fashion Show and Dancing </DIV><DIV style="FONT-FAMILY: Arial">&nbsp\;</DIV><DIV style="FONT-FAMILY: Arial">**No Host Bar </DIV>
LOCATION:Jacobs Restaurant 2502 McHenry Avenue Modesto\, CA
UID:e.2695.558
SEQUENCE:3
DTSTAMP:20260422T154302Z
URL:https://business.modchamber.org/events/details/mnj-foundation-presents-an-all-white-affair-11-01-2014-558
END:VEVENT

END:VCALENDAR
