BEGIN:VCALENDAR
VERSION:2.0
PRODID:-//ChamberMaster//Event Calendar 2.0//EN
METHOD:PUBLISH
X-PUBLISHED-TTL:P3D
REFRESH-INTERVAL:P3D
CALSCALE:GREGORIAN
BEGIN:VEVENT
DTSTART;VALUE=DATE:20141023
DTEND;VALUE=DATE:20141103
TRANSP:TRANSPARENT
X-MICROSOFT-CDO-ALLDAYEVENT:TRUE
SUMMARY:MJC Theatre Department presents: Dr. Jekyll and Mr. Hyde
DESCRIPTION:Modesto Junior College Theatre Department presents Robert Luois Stevenson's THE STRANGE CASE OF Dr. Jekyll and Mr. HYDE     The Strange Case of Dr. Jekyll & Mr. Hyde is a stage adaptation of Robert Louis Stevinson's classic tale of horror and suspense. Dr. Henry Jekyll is a brilliant scientist frustrated by dull "respectable" life in 1888 Victorian London. He creates a formula to unleash his inner bestial nature\, transforming him into the brutish but oddly compassionate Edward Hyde. Hyde lives the high life while Jekyll's middle-aged normalcy continues -- until Hyde's passions begin to turn up a body count. The MJC production is adapted and directed by Professor Michael Lynch.    Tickets $10 - General$8 - Students/Srs$5 - Student Preview Tickets available at MJC Box Office 209-575-6776 or online at mjc.tix.com For dates and times please visit MJC's website mjc.tix.com
X-ALT-DESC;FMTTYPE=text/html:<DIV style="FONT-FAMILY: Arial"><TABLE style="WORD-SPACING: 0px\; FONT: 12px arial\, helvetica\, sans-serif\; TEXT-TRANSFORM: none\; COLOR: rgb(0\,0\,0)\; TEXT-INDENT: 0px\; WHITE-SPACE: normal\; LETTER-SPACING: normal\; BORDER-COLLAPSE: collapse\; BACKGROUND-COLOR: rgb(241\,241\,241)\; TEXT-ALIGN: left\; box-sizing: border-box\; border-spacing: 0px\; orphans: auto\; widows: auto\; -webkit-text-stroke-width: 0px"><TBODY style="FONT-SIZE: 12px\; LINE-HEIGHT: normal\; box-sizing: border-box"><TR style="FONT-SIZE: 12px\; LINE-HEIGHT: normal\; box-sizing: border-box"><TD style="PADDING-RIGHT: 0px\; PADDING-LEFT: 0px\; FONT-SIZE: 12px\; PADDING-BOTTOM: 0px\; MARGIN: 0px\; DIRECTION: ltr\; LINE-HEIGHT: normal\; PADDING-TOP: 0px\; box-sizing: border-box" vAlign=top align=right>&nbsp\;</TD><TD style="PADDING-RIGHT: 0px\; PADDING-LEFT: 0px\; FONT-SIZE: 12px\; PADDING-BOTTOM: 0px\; MARGIN: 0px\; DIRECTION: ltr\; LINE-HEIGHT: normal\; PADDING-TOP: 0px\; box-sizing: border-box"><SPAN style="FONT-SIZE: 12px\; COLOR: rgb(204\,0\,0)\; LINE-HEIGHT: normal\; box-sizing: border-box">&nbsp\;</SPAN></TD></TR></TBODY></TABLE>Modesto Junior College Theatre Department presents Robert Luois Stevenson's THE STRANGE CASE OF Dr. Jekyll and Mr. HYDE </DIV><DIV style="FONT-FAMILY: Arial">&nbsp\;</DIV><DIV style="FONT-FAMILY: Arial"><TABLE style="WORD-SPACING: 0px\; FONT: 12px arial\, helvetica\, sans-serif\; TEXT-TRANSFORM: none\; COLOR: rgb(0\,0\,0)\; TEXT-INDENT: 0px\; WHITE-SPACE: normal\; LETTER-SPACING: normal\; BORDER-COLLAPSE: collapse\; BACKGROUND-COLOR: rgb(241\,241\,241)\; TEXT-ALIGN: left\; box-sizing: border-box\; border-spacing: 0px\; orphans: auto\; widows: auto\; -webkit-text-stroke-width: 0px"><TBODY style="FONT-SIZE: 12px\; LINE-HEIGHT: normal\; box-sizing: border-box"><TR style="FONT-SIZE: 12px\; LINE-HEIGHT: normal\; box-sizing: border-box"><TD style="PADDING-RIGHT: 0px\; PADDING-LEFT: 0px\; FONT-SIZE: 12px\; PADDING-BOTTOM: 0px\; MARGIN: 0px\; DIRECTION: ltr\; LINE-HEIGHT: normal\; PADDING-TOP: 0px\; box-sizing: border-box"><P>&nbsp\;</P><P>&nbsp\;</P><P>&nbsp\;</P></TD><TD style="PADDING-RIGHT: 0px\; PADDING-LEFT: 0px\; FONT-SIZE: 12px\; PADDING-BOTTOM: 0px\; MARGIN: 0px\; DIRECTION: ltr\; LINE-HEIGHT: normal\; PADDING-TOP: 0px\; box-sizing: border-box"><SPAN style="FONT-SIZE: small\; LINE-HEIGHT: normal\; box-sizing: border-box"><SPAN style="FONT-SIZE: 12px\; LINE-HEIGHT: normal\; FONT-FAMILY: verdana\, arial\, helvetica\; box-sizing: border-box">The Strange Case of Dr. Jekyll &amp\; Mr. Hyde is a stage adaptation of Robert Louis Stevinson's&nbsp\;classic&nbsp\;tale of horror and suspense.&nbsp\;<SPAN style="FONT-SIZE: 12px\; LINE-HEIGHT: normal\; box-sizing: border-box">Dr. Henry Jekyll is a brilliant scientist frustrated by dull "respectable" life in 1888 Victorian London. He creates a formula to unleash his inner bestial nature\, transforming him into the brutish but oddly compassionate Edward Hyde. Hyde lives the high life while Jekyll's middle-aged normalcy continues -- until Hyde's passions begin to turn up a body count.&nbsp\;</SPAN>The MJC production is adapted and&nbsp\;directed by Professor Michael Lynch.&nbsp\;&nbsp\;&nbsp\;</SPAN></SPAN></TD></TR></TBODY></TABLE></DIV><P>&nbsp\;</P><P>Tickets </P><P>$10 - General</P><P>$8 - Students/Srs</P><P>$5 - Student Preview </P><P>Tickets available at MJC Box Office 209-575-6776 or online at mjc.tix.com </P><P>For dates and times please visit MJC's website mjc.tix.com</P><P>&nbsp\;</P>
LOCATION:Modesto Junior College 435 College Avenue Modesto\, CA 95350
UID:e.2695.595
SEQUENCE:3
DTSTAMP:20260422T154336Z
URL:https://business.modchamber.org/events/details/mjc-theatre-department-presents-dr-jekyll-and-mr-hyde-10-23-2014-595
END:VEVENT

END:VCALENDAR
