BEGIN:VCALENDAR
VERSION:2.0
PRODID:-//ChamberMaster//Event Calendar 2.0//EN
METHOD:PUBLISH
X-PUBLISHED-TTL:P3D
REFRESH-INTERVAL:P3D
CALSCALE:GREGORIAN
BEGIN:VEVENT
DTSTART:20150404T150000Z
DTEND:20150404T233000Z
X-MICROSOFT-CDO-ALLDAYEVENT:FALSE
SUMMARY:MJC's 19th Annual Plant Sale
DESCRIPTION:The Modesto Junior College Environmental Horticulture Department will hold their 19th Annual Plant Sale on Saturday\, April 4 beginning at 8 a.m. and will be open until 4:30 p.m. Those arriving early will be served free coffee and refreshments. The MJC nursery and greenhouses are located on East Campus behind the Agriculture Department on Coldwell Avenue.\n\nAvailable is a nice selection of spring color Lobelias\, Marigolds\, Impatiens\, and the usual shrubs\, trees and houseplants. There is also a huge selection of tomato and pepper varieties to suit everyone’s needs.\nContact :	MJC Ag Department\nPhone :	209.575.6200\nEmail :	\nWeb Site :
X-ALT-DESC;FMTTYPE=text/html:The Modesto Junior College Environmental Horticulture Department will hold their 19th Annual Plant Sale on Saturday\, April 4 beginning at 8 a.m. and will be open until 4:30 p.m. Those arriving early will be served free coffee and refreshments. The MJC nursery and greenhouses are located on East Campus behind the Agriculture Department on Coldwell Avenue.\n\nAvailable is a nice selection of spring color Lobelias\, Marigolds\, Impatiens\, and the usual shrubs\, trees and houseplants. There is also a huge selection of tomato and pepper varieties to suit everyone’s needs.\nContact :	MJC Ag Department\nPhone :	209.575.6200\nEmail :	\nWeb Site :
LOCATION:MJC\, East Campus 435 College Ave Modesto\, CA 95350
UID:e.2695.837
SEQUENCE:3
DTSTAMP:20260420T063226Z
URL:https://business.modchamber.org/events/details/mjc-s-19th-annual-plant-sale-04-04-2015-837
END:VEVENT

END:VCALENDAR
