BEGIN:VCALENDAR
VERSION:2.0
PRODID:-//ChamberMaster//Event Calendar 2.0//EN
METHOD:PUBLISH
X-PUBLISHED-TTL:P3D
REFRESH-INTERVAL:P3D
CALSCALE:GREGORIAN
BEGIN:VEVENT
DTSTART;VALUE=DATE:20160420
DTEND;VALUE=DATE:20160422
TRANSP:TRANSPARENT
X-MICROSOFT-CDO-ALLDAYEVENT:TRUE
SUMMARY:MJC presents Choreographers’ Showcase
DESCRIPTION:The Modesto Junior College Dance Department will present the annual Choreographers’ Showcase on Wednesday\, April 20 at 6 p.m. and 8 p.m.\, and on Thursday\, April 21 at 7 p.m. in the Cabaret West Dance Theatre of the El Capitan Building on West Campus.\n\nThe evening of student choreography will feature dance styles in contemporary\, jazz and hip hop. A Celebration of the Humanities Dance Awards Reception will be held following the performance on April 21.\n\nStudent choreographers will include Tori Adams\, Angela Bass\, Bailey Coleman\, Oscar Galvan\, Shakur Lewis\, Morgan Loomis\, Rene Matute and Amie Whitler.\n\nTickets are $8 and will be available at the door beginning 90 minutes prior to the performance. Campus parking is available for $2 in student parking lots.\nContact : 	Kim T. Davis\, MJC professor of dance\nPhone : 	209-575-6496\nEmail : 	davisk@mjc.edu\nWeb Site :
X-ALT-DESC;FMTTYPE=text/html:The Modesto Junior College Dance Department will present the annual Choreographers’ Showcase on Wednesday\, April 20 at 6 p.m. and 8 p.m.\, and on Thursday\, April 21 at 7 p.m. in the Cabaret West Dance Theatre of the El Capitan Building on West Campus.\n\nThe evening of student choreography will feature dance styles in contemporary\, jazz and hip hop. A Celebration of the Humanities Dance Awards Reception will be held following the performance on April 21.\n\nStudent choreographers will include Tori Adams\, Angela Bass\, Bailey Coleman\, Oscar Galvan\, Shakur Lewis\, Morgan Loomis\, Rene Matute and Amie Whitler.\n\nTickets are $8 and will be available at the door beginning 90 minutes prior to the performance. Campus parking is available for $2 in student parking lots.\nContact : 	Kim T. Davis\, MJC professor of dance\nPhone : 	209-575-6496\nEmail : 	davisk@mjc.edu\nWeb Site :
LOCATION:MJC\, West Campus 2201 Blue Gum Ave. Modesto\, CA 95358
UID:e.2695.1623
SEQUENCE:3
DTSTAMP:20260419T141016Z
URL:https://business.modchamber.org/events/details/mjc-presents-choreographers-showcase-04-20-2016-1623
END:VEVENT

END:VCALENDAR
