BEGIN:VCALENDAR
VERSION:2.0
PRODID:-//ChamberMaster//Event Calendar 2.0//EN
METHOD:PUBLISH
X-PUBLISHED-TTL:P3D
REFRESH-INTERVAL:P3D
CALSCALE:GREGORIAN
BEGIN:VEVENT
DTSTART:20150717T003000Z
DTEND:20150716T070000Z
X-MICROSOFT-CDO-ALLDAYEVENT:FALSE
SUMMARY:MJC 19th Annual Summer Sonata
DESCRIPTION:Doors open at Five Thirty p.m. with a social hour where you can enjoy Hors d’oeuvres and take part in the Silent Auction. Dinner is at Seven o’clock. The evening’s Program will begin at Eight o’clock\, featuring a Live Auction followed by entertainment featuring MJC and music through the decades.\n\nFunds generated from the Sonata are used for student scholarships\, program and staff development grants\, presentations by our fine and performing arts department\, noted speakers\, computer and technical equipment purchases\, student organizations and much more!\n\n$150.00 for an individual seat\n\nTo reserve your seats\, make a donation\, or if you have any related questions\, please contact our office at (209) 575-6619\, (209) 575-6068\nContact :	MJC Foundation\nPhone :	(209) 575-6619\nEmail :	markss@mjc.edu\nWeb Site :	http://www.mjcfoundation.com/
X-ALT-DESC;FMTTYPE=text/html:Doors open at Five Thirty p.m. with a social hour where you can enjoy Hors d’oeuvres and take part in the Silent Auction. Dinner is at Seven o’clock. The evening’s Program will begin at Eight o’clock\, featuring a Live Auction followed by entertainment featuring MJC and music through the decades.\n\nFunds generated from the Sonata are used for student scholarships\, program and staff development grants\, presentations by our fine and performing arts department\, noted speakers\, computer and technical equipment purchases\, student organizations and much more!\n\n$150.00 for an individual seat\n\nTo reserve your seats\, make a donation\, or if you have any related questions\, please contact our office at (209) 575-6619\, (209) 575-6068\nContact :	MJC Foundation\nPhone :	(209) 575-6619\nEmail :	markss@mjc.edu\nWeb Site :	http://www.mjcfoundation.com/\n
LOCATION:Gallo Center 1000 I St Modesto\, CA 95354
UID:e.2695.1030
SEQUENCE:3
DTSTAMP:20260420T020019Z
URL:https://business.modchamber.org/events/details/mjc-19th-annual-summer-sonata-07-16-2015-1030
END:VEVENT

END:VCALENDAR
