BEGIN:VCALENDAR
VERSION:2.0
PRODID:-//ChamberMaster//Event Calendar 2.0//EN
METHOD:PUBLISH
X-PUBLISHED-TTL:P3D
REFRESH-INTERVAL:P3D
CALSCALE:GREGORIAN
BEGIN:VEVENT
DTSTART:20101119T013000Z
DTEND:20101119T033000Z
X-MICROSOFT-CDO-ALLDAYEVENT:FALSE
SUMMARY:Mixer 11-18-10
DESCRIPTION:
X-ALT-DESC;FMTTYPE=text/html:
LOCATION:Flying Turtle
UID:e.2695.140
SEQUENCE:3
DTSTAMP:20260420T192453Z
URL:https://business.modchamber.org/events/details/mixer-11-18-10-11-18-2010-140
END:VEVENT

END:VCALENDAR
