BEGIN:VCALENDAR
VERSION:2.0
PRODID:-//ChamberMaster//Event Calendar 2.0//EN
METHOD:PUBLISH
X-PUBLISHED-TTL:P3D
REFRESH-INTERVAL:P3D
CALSCALE:GREGORIAN
BEGIN:VEVENT
DTSTART:20101022T003000Z
DTEND:20101022T023000Z
X-MICROSOFT-CDO-ALLDAYEVENT:FALSE
SUMMARY:Mixer 10-21-10
DESCRIPTION:
X-ALT-DESC;FMTTYPE=text/html:
LOCATION:Flying Turtle
UID:e.2695.139
SEQUENCE:3
DTSTAMP:20260421T194034Z
URL:https://business.modchamber.org/events/details/mixer-10-21-10-10-21-2010-139
END:VEVENT

END:VCALENDAR
