BEGIN:VCALENDAR
VERSION:2.0
PRODID:-//ChamberMaster//Event Calendar 2.0//EN
METHOD:PUBLISH
X-PUBLISHED-TTL:P3D
REFRESH-INTERVAL:P3D
CALSCALE:GREGORIAN
BEGIN:VEVENT
DTSTART:20100617T070000Z
DTEND:20100617T070000Z
X-MICROSOFT-CDO-ALLDAYEVENT:FALSE
SUMMARY:Mixer 06-17-10
DESCRIPTION:Mixer 06-17-10
X-ALT-DESC;FMTTYPE=text/html:Mixer 06-17-10
LOCATION:Flying Turtle
UID:e.2695.2029
SEQUENCE:3
DTSTAMP:20260423T041737Z
URL:https://business.modchamber.org/events/details/mixer-06-17-10-06-17-2020-2029
END:VEVENT

END:VCALENDAR
