BEGIN:VCALENDAR
VERSION:2.0
PRODID:-//ChamberMaster//Event Calendar 2.0//EN
METHOD:PUBLISH
X-PUBLISHED-TTL:P3D
REFRESH-INTERVAL:P3D
CALSCALE:GREGORIAN
BEGIN:VEVENT
DTSTART:20100416T003000Z
DTEND:20100416T023000Z
X-MICROSOFT-CDO-ALLDAYEVENT:FALSE
SUMMARY:Mixer 04-15-10
DESCRIPTION:
X-ALT-DESC;FMTTYPE=text/html:
LOCATION:Flying Turtle
UID:e.2695.134
SEQUENCE:3
DTSTAMP:20260426T041155Z
URL:https://business.modchamber.org/events/details/mixer-04-15-10-04-15-2010-134
END:VEVENT

END:VCALENDAR
