BEGIN:VCALENDAR
VERSION:2.0
PRODID:-//ChamberMaster//Event Calendar 2.0//EN
METHOD:PUBLISH
X-PUBLISHED-TTL:P3D
REFRESH-INTERVAL:P3D
CALSCALE:GREGORIAN
BEGIN:VEVENT
DTSTART:20160306T220000Z
DTEND:20160306T080000Z
X-MICROSOFT-CDO-ALLDAYEVENT:FALSE
SUMMARY:MISS NELSON IS MISSING
DESCRIPTION:California Theatre Center's\nMISS NELSON IS MISSING\n\nIn this lively musical comedy back by popular demand\, the kind and clever Miss Nelson masquerades as the infamous Viola Swamp\, a nasty substitute\, in order to teach her unruly class just what a good and fair teacher she is! Suggested for grades K-5.\nContact :	Gallo Center\nPhone :	209-338-2100\nEmail :	\nWeb Site :	galloarts.org
X-ALT-DESC;FMTTYPE=text/html:California Theatre Center's\nMISS NELSON IS MISSING\n\nIn this lively musical comedy back by popular demand\, the kind and clever Miss Nelson masquerades as the infamous Viola Swamp\, a nasty substitute\, in order to teach her unruly class just what a good and fair teacher she is! Suggested for grades K-5.\nContact :	Gallo Center\nPhone :	209-338-2100\nEmail :	\nWeb Site :	galloarts.org\n
LOCATION:Gallo Center 1000 I Street Modesto\, CA 95354
UID:e.2695.1455
SEQUENCE:3
DTSTAMP:20260419T152958Z
URL:https://business.modchamber.org/events/details/miss-nelson-is-missing-03-06-2016-1455
END:VEVENT

END:VCALENDAR
