BEGIN:VCALENDAR
VERSION:2.0
PRODID:-//ChamberMaster//Event Calendar 2.0//EN
METHOD:PUBLISH
X-PUBLISHED-TTL:P3D
REFRESH-INTERVAL:P3D
CALSCALE:GREGORIAN
BEGIN:VEVENT
DTSTART:20160423T030000Z
DTEND:20160422T070000Z
X-MICROSOFT-CDO-ALLDAYEVENT:FALSE
SUMMARY:MILLION DOLLAR QUARTET
DESCRIPTION:It’s the high voltage Tony® Award-winning Broadway musical\, inspired by the phenomenal true story of the famed recording session where Sam Phillips\, the “Father of Rock ‘n’ Roll\,” brought together icons Elvis Presley\, Johnny Cash\, Jerry Lee Lewis and Carl Perkins for one unforgettable night. "Million Dollar Quartet" brings you inside the recording studio for a monumental night of rock and roll that explodes off the stage\, featuring 21 timeless hits including “Blue Suede Shoes\,” “Sixteen Tons\,” “Great Balls of Fire\,” “I Walk the Line\,” “Fever\,” “Hound Dog” and more.\nContact :	Gallo Center\nPhone :	209-338-2100\nEmail :	\nWeb Site :	galloarts.org
X-ALT-DESC;FMTTYPE=text/html:It’s the high voltage Tony® Award-winning Broadway musical\, inspired by the phenomenal true story of the famed recording session where Sam Phillips\, the “Father of Rock ‘n’ Roll\,” brought together icons Elvis Presley\, Johnny Cash\, Jerry Lee Lewis and Carl Perkins for one unforgettable night. "Million Dollar Quartet" brings you inside the recording studio for a monumental night of rock and roll that explodes off the stage\, featuring 21 timeless hits including “Blue Suede Shoes\,” “Sixteen Tons\,” “Great Balls of Fire\,” “I Walk the Line\,” “Fever\,” “Hound Dog” and more.\nContact :	Gallo Center\nPhone :	209-338-2100\nEmail :	\nWeb Site :	galloarts.org
LOCATION:Gallo Center 1000 I Street Modesto\, CA 95354
UID:e.2695.1491
SEQUENCE:3
DTSTAMP:20260419T140725Z
URL:https://business.modchamber.org/events/details/million-dollar-quartet-04-22-2016-1491
END:VEVENT

END:VCALENDAR
