BEGIN:VCALENDAR
VERSION:2.0
PRODID:-//ChamberMaster//Event Calendar 2.0//EN
METHOD:PUBLISH
X-PUBLISHED-TTL:P3D
REFRESH-INTERVAL:P3D
CALSCALE:GREGORIAN
BEGIN:VEVENT
DTSTART:20150609T000000Z
DTEND:20150612T030000Z
X-MICROSOFT-CDO-ALLDAYEVENT:FALSE
SUMMARY:Mid-Valley Chevy Club Park n' Shines
DESCRIPTION:All car shows are free and will be at a different location each night.\n\nMonday - American Chevrolet\, 4742 McHenry Ave.\nTuesday - Vintage Faire Mall\, 3401 Dale Rd\nWednesday - Downtown Modesto\nThursday - Cool Hand Luke’s\, 2505 Patterson Rd.\n\nCome and check out a variety of classic cars and street rods\, enjoy great 50’s n 60’s music and family fun on a warm summer night.\nContact :	Mid-Valley Chevy Club\nPhone :	209-499-2163\nEmail :	\nWeb Site :	www.midvalleychevy.com
X-ALT-DESC;FMTTYPE=text/html:All car shows are free and will be at a different location each night.\n\nMonday - American Chevrolet\, 4742 McHenry Ave.\nTuesday - Vintage Faire Mall\, 3401 Dale Rd\nWednesday - Downtown Modesto\nThursday - Cool Hand Luke’s\, 2505 Patterson Rd.\n\nCome and check out a variety of classic cars and street rods\, enjoy great 50’s n 60’s music and family fun on a warm summer night.\nContact :	Mid-Valley Chevy Club\nPhone :	209-499-2163\nEmail :	\nWeb Site :	www.midvalleychevy.com
LOCATION:
UID:e.2695.990
SEQUENCE:3
DTSTAMP:20260420T032152Z
URL:https://business.modchamber.org/events/details/mid-valley-chevy-club-park-n-shines-06-08-2015-990
END:VEVENT

END:VCALENDAR
