BEGIN:VCALENDAR
VERSION:2.0
PRODID:-//ChamberMaster//Event Calendar 2.0//EN
METHOD:PUBLISH
X-PUBLISHED-TTL:P3D
REFRESH-INTERVAL:P3D
CALSCALE:GREGORIAN
BEGIN:VEVENT
DTSTART:20140513T160000Z
DTEND:20140513T070000Z
X-MICROSOFT-CDO-ALLDAYEVENT:FALSE
SUMMARY:MID Board Meeting
DESCRIPTION:If you are interested in learning more about what is happening at the Modesto Irrigation district\, you are encouraged to attend the regularly scheduled Board meetings. All meetings are held at 9:00 am on the second Tuesday of each month in the Board Room at the MID main office\, 1231 Eleventh Street\, Modesto\, CA 95354. additional meetings may be scheduled on other Tuesdays.Agenda List
X-ALT-DESC;FMTTYPE=text/html:<P>If you are interested in learning more about what is happening at the Modesto Irrigation district\, you are encouraged to attend the regularly scheduled Board meetings. All meetings are held at 9:00 am on the second Tuesday of each month in the Board Room at the MID main office\, 1231 Eleventh Street\, Modesto\, CA 95354. additional meetings may be scheduled on other Tuesdays.</P><P><A dataFld=0:0 href="http://www.mid.org/about/board/agenda/agendalist.html">Agenda List</A></P>
LOCATION:MID Board Meeting 1231 Eleventh Street Modesto\, CA 95354
UID:e.2695.453
SEQUENCE:3
DTSTAMP:20260423T002512Z
URL:https://business.modchamber.org/events/details/mid-board-meeting-05-13-2014-453
END:VEVENT

END:VCALENDAR
