BEGIN:VCALENDAR
VERSION:2.0
PRODID:-//ChamberMaster//Event Calendar 2.0//EN
METHOD:PUBLISH
X-PUBLISHED-TTL:P3D
REFRESH-INTERVAL:P3D
CALSCALE:GREGORIAN
BEGIN:VEVENT
DTSTART:20160506T023000Z
DTEND:20160505T070000Z
X-MICROSOFT-CDO-ALLDAYEVENT:FALSE
SUMMARY:MICHAEL BOLTON
DESCRIPTION:Michael Bolton\, the multiple Grammy Award-winning singer\, songwriter and social activist\, who has sold more than 53 million albums and singles worldwide\, continues to tour the world every year\, all while writing\, recording and taping for a wide array of projects spanning music\, film\, television and theater. Bolton has won two Grammys for Best Pop Male Vocal Performance (nominated four times)\, six American Music Awards\, and a Star on the Hollywood Walk of Fame. As a songwriter\, he has earned more than 24 BMI & ASCAP Awards\, including Songwriter of the Year\, nine Million-Air awards\, and the Hitmakers Award from the Songwriters Hall of Fame. Bolton’s current CD is Ain’t No Mountain High Enough: A Tribute To Hitsville U.S.A.\nContact :	Gallo Center\nPhone :	209-338-2100\nEmail :	\nWeb Site :	www.galloarts.org
X-ALT-DESC;FMTTYPE=text/html:Michael Bolton\, the multiple Grammy Award-winning singer\, songwriter and social activist\, who has sold more than 53 million albums and singles worldwide\, continues to tour the world every year\, all while writing\, recording and taping for a wide array of projects spanning music\, film\, television and theater. Bolton has won two Grammys for Best Pop Male Vocal Performance (nominated four times)\, six American Music Awards\, and a Star on the Hollywood Walk of Fame. As a songwriter\, he has earned more than 24 BMI & ASCAP Awards\, including Songwriter of the Year\, nine Million-Air awards\, and the Hitmakers Award from the Songwriters Hall of Fame. Bolton’s current CD is Ain’t No Mountain High Enough: A Tribute To Hitsville U.S.A.\nContact :	Gallo Center\nPhone :	209-338-2100\nEmail :	\nWeb Site :	www.galloarts.org
LOCATION:Gallo Center 1000 I Street Modesto\, CA 95354
UID:e.2695.1495
SEQUENCE:3
DTSTAMP:20260419T124714Z
URL:https://business.modchamber.org/events/details/michael-bolton-05-05-2016-1495
END:VEVENT

END:VCALENDAR
