BEGIN:VCALENDAR
VERSION:2.0
PRODID:-//ChamberMaster//Event Calendar 2.0//EN
METHOD:PUBLISH
X-PUBLISHED-TTL:P3D
REFRESH-INTERVAL:P3D
CALSCALE:GREGORIAN
BEGIN:VEVENT
DTSTART:20141017T003000Z
DTEND:20141017T040000Z
X-MICROSOFT-CDO-ALLDAYEVENT:FALSE
SUMMARY:MGM - David Garibaldi
DESCRIPTION:Modesto Gospel Mission is pleased to present an evening with David Garibaldi on October 16\, 2014 at Gallo Center for the Arts. David is a 2012 Semi-Finalist on America’s Got Talent (www.garibaldiarts.com). As a world-renowned performance painter\, Garibaldi creates images through his body movement and brushes while communicating via music to an amazed audience.\n\nPre-Show Reception will include: appetizers from Top Chefs of Modesto\, silent auction featuring local artists\, live music\, and a red carpet photo opportunity.
X-ALT-DESC;FMTTYPE=text/html:Modesto Gospel Mission is pleased to present an evening with David Garibaldi on October 16\, 2014 at Gallo Center for the Arts. David is a 2012 Semi-Finalist on America’s Got Talent (www.garibaldiarts.com). As a world-renowned performance painter\, Garibaldi creates images through his body movement and brushes while communicating via music to an amazed audience.\n\nPre-Show Reception will include: appetizers from Top Chefs of Modesto\, silent auction featuring local artists\, live music\, and a red carpet photo opportunity.
LOCATION:Gallo Center for the Arts 1000 I Street Modesto\, CA 95354
UID:e.2695.539
SEQUENCE:3
DTSTAMP:20260422T164804Z
URL:https://business.modchamber.org/events/details/mgm-david-garibaldi-10-16-2014-539
END:VEVENT

END:VCALENDAR
