BEGIN:VCALENDAR
VERSION:2.0
PRODID:-//ChamberMaster//Event Calendar 2.0//EN
METHOD:PUBLISH
X-PUBLISHED-TTL:P3D
REFRESH-INTERVAL:P3D
CALSCALE:GREGORIAN
BEGIN:VEVENT
DTSTART:20150412T210000Z
DTEND:20150412T070000Z
X-MICROSOFT-CDO-ALLDAYEVENT:FALSE
SUMMARY:Mexico Y Sus Alrededores 2014
DESCRIPTION:Under the artistic direction of Zenón Barrón\, exceptional young dancers and a live Latin American music ensemble present a passionate rendition of Mexican culture and heritage\, both past and present. For lovers of fine ballet folklórico dance\, México y sus alrededores is colorful and creative\, featuring indigenous and folkloric dance costumes and traditions\, with accents on their award–winning pieces performed in international competitions. A highly valued cultural and artistic resource throughout the western United States as well as in international markets\, the Compañía Mazatlán Bella Artes boasts a repertoire that includes traditional folkloric dance pieces as well as indigenous rituals that are fused with elements from contemporary movement.\nContact : 	Gallo Center\nPhone : 	209-338-2100\nEmail : 	\nWeb Site : 	galloarts.org
X-ALT-DESC;FMTTYPE=text/html:Under the artistic direction of Zenón Barrón\, exceptional young dancers and a live Latin American music ensemble present a passionate rendition of Mexican culture and heritage\, both past and present. For lovers of fine ballet folklórico dance\, México y sus alrededores is colorful and creative\, featuring indigenous and folkloric dance costumes and traditions\, with accents on their award–winning pieces performed in international competitions. A highly valued cultural and artistic resource throughout the western United States as well as in international markets\, the Compañía Mazatlán Bella Artes boasts a repertoire that includes traditional folkloric dance pieces as well as indigenous rituals that are fused with elements from contemporary movement.\nContact : 	Gallo Center\nPhone : 	209-338-2100\nEmail : 	\nWeb Site : 	galloarts.org
LOCATION:Gallo Center 1000 I St Modesto\, CA 95354
UID:e.2695.864
SEQUENCE:3
DTSTAMP:20260420T063135Z
URL:https://business.modchamber.org/events/details/mexico-y-sus-alrededores-2014-04-12-2015-864
END:VEVENT

END:VCALENDAR
