BEGIN:VCALENDAR
VERSION:2.0
PRODID:-//ChamberMaster//Event Calendar 2.0//EN
METHOD:PUBLISH
X-PUBLISHED-TTL:P3D
REFRESH-INTERVAL:P3D
CALSCALE:GREGORIAN
BEGIN:VEVENT
DTSTART:20160311T030000Z
DTEND:20160310T080000Z
X-MICROSOFT-CDO-ALLDAYEVENT:FALSE
SUMMARY:Merchants of Doubt\, the Movie
DESCRIPTION:Merchants of Doubt argues that public response to topics such as smoking and climate change is hampered not by scientific disagreement so much as by the influential power of a small group of paid spokespersons who call science into question for financial gain.\n\nPlease join us\, and please invite your students to attend. The event is free and open to the public. Flex # 6030\nContact : 	Jason Wohlstadter\, English Professor\nPhone : 	209.575.6180\nEmail : 	\nWeb Site :
X-ALT-DESC;FMTTYPE=text/html:	Merchants of Doubt argues that public response to topics such as smoking and climate change is hampered not by scientific disagreement so much as by the influential power of a small group of paid spokespersons who call science into question for financial gain.\n\nPlease join us\, and please invite your students to attend. The event is free and open to the public. Flex # 6030\nContact : 	Jason Wohlstadter\, English Professor\nPhone : 	209.575.6180\nEmail : 	\nWeb Site :
LOCATION:MJC\, West Campus 435 College Ave Modesto\, CA 95350
UID:e.2695.1562
SEQUENCE:3
DTSTAMP:20260419T165015Z
URL:https://business.modchamber.org/events/details/merchants-of-doubt-the-movie-03-10-2016-1562
END:VEVENT

END:VCALENDAR
