BEGIN:VCALENDAR
VERSION:2.0
PRODID:-//ChamberMaster//Event Calendar 2.0//EN
METHOD:PUBLISH
X-PUBLISHED-TTL:P3D
REFRESH-INTERVAL:P3D
CALSCALE:GREGORIAN
BEGIN:VEVENT
DTSTART:20160527T230000Z
DTEND:20160528T040000Z
X-MICROSOFT-CDO-ALLDAYEVENT:FALSE
SUMMARY:Memorial Weekend Classic Car Show
DESCRIPTION:The Central Valley Knights Memorial Weekend Car Show is from 4:00pm – 9:00pm at Regal Theater\, 3969 McHenry Ave. The show is open to all cars and motorcycles of any year. There will be sponsored awards and a raffle. The entry fee is $20 at the gate\; no charge for spectators. A portion of the proceeds will go to the Modesto Vet Center\, readjustment counseling service for all veterans.\nContact : 	\nPhone : 	209-471-6745\nEmail : 	\nWeb Site :
X-ALT-DESC;FMTTYPE=text/html:The Central Valley Knights Memorial Weekend Car Show is from 4:00pm – 9:00pm at Regal Theater\, 3969 McHenry Ave. The show is open to all cars and motorcycles of any year. There will be sponsored awards and a raffle. The entry fee is $20 at the gate\; no charge for spectators. A portion of the proceeds will go to the Modesto Vet Center\, readjustment counseling service for all veterans.\nContact : 	\nPhone : 	209-471-6745\nEmail : 	\nWeb Site :
LOCATION:Regal Theaters 3969 McHenry Ave Modesto\, CA 95350
UID:e.2695.1708
SEQUENCE:3
DTSTAMP:20260419T125050Z
URL:https://business.modchamber.org/events/details/memorial-weekend-classic-car-show-05-27-2016-1708
END:VEVENT

END:VCALENDAR
