BEGIN:VCALENDAR
VERSION:2.0
PRODID:-//ChamberMaster//Event Calendar 2.0//EN
METHOD:PUBLISH
X-PUBLISHED-TTL:P3D
REFRESH-INTERVAL:P3D
CALSCALE:GREGORIAN
BEGIN:VEVENT
DTSTART:20150527T230000Z
DTEND:20150528T020000Z
X-MICROSOFT-CDO-ALLDAYEVENT:FALSE
SUMMARY:Member Appreciation Day
DESCRIPTION:As a thank you to our members\, we will be having a member appreciation social from 4-7 pm.  If you are interested in trying out our club for the day\, please join us for FREE on one of our monthly member appreciation days!!
X-ALT-DESC;FMTTYPE=text/html:As a thank you to our members\, we will be having a member appreciation social from 4-7 pm.  If you are interested in trying out our club for the day\, please join us for FREE on one of our monthly member appreciation days!!
LOCATION:Brenda Athletic Clubs 200 Norwegian Ave Modesto\, CA 95350
UID:e.2695.1084
SEQUENCE:3
DTSTAMP:20260420T045341Z
URL:https://business.modchamber.org/events/details/member-appreciation-day-05-27-2015-1084
END:VEVENT

END:VCALENDAR
