BEGIN:VCALENDAR
VERSION:2.0
PRODID:-//ChamberMaster//Event Calendar 2.0//EN
METHOD:PUBLISH
X-PUBLISHED-TTL:P3D
REFRESH-INTERVAL:P3D
CALSCALE:GREGORIAN
BEGIN:VEVENT
DTSTART:20150429T230000Z
DTEND:20150430T020000Z
X-MICROSOFT-CDO-ALLDAYEVENT:FALSE
SUMMARY:Member Appreciation Day
DESCRIPTION:As a thank you to our members\, we will be having a member appreciation social from 4-7 pm.  If you are interested in trying out our club for the day\, please join us on one of our monthly member appreciation days!!
X-ALT-DESC;FMTTYPE=text/html:As a thank you to our members\, we will be having a member appreciation social from 4-7 pm.  If you are interested in trying out our club for the day\, please join us on one of our monthly member appreciation days!!
LOCATION:Brenda Athletic Clubs 200 Norwegian Ave Modesto\, CA 95350
UID:e.2695.974
SEQUENCE:3
DTSTAMP:20260420T073648Z
URL:https://business.modchamber.org/events/details/member-appreciation-day-04-29-2015-974
END:VEVENT

END:VCALENDAR
