BEGIN:VCALENDAR
VERSION:2.0
PRODID:-//ChamberMaster//Event Calendar 2.0//EN
METHOD:PUBLISH
X-PUBLISHED-TTL:P3D
REFRESH-INTERVAL:P3D
CALSCALE:GREGORIAN
BEGIN:VEVENT
DTSTART:20160101T060000Z
DTEND:20151231T080000Z
X-MICROSOFT-CDO-ALLDAYEVENT:FALSE
SUMMARY:MCHENRY BOWL’S NEW YEAR’S EVE CELEBRATION
DESCRIPTION:Champagne toast\, party favors & more! 10:00pm.\nContact :	McHenry Bowl\nPhone :	571-2695\nEmail :	\nWeb Site :
X-ALT-DESC;FMTTYPE=text/html:Champagne toast\, party favors & more! 10:00pm.\nContact :	McHenry Bowl\nPhone :	571-2695\nEmail :	\nWeb Site :	
LOCATION:McHenry Bowl 3700 McHenry Ave Modesto\, CA 95350
UID:e.2695.1331
SEQUENCE:3
DTSTAMP:20260419T191140Z
URL:https://business.modchamber.org/events/details/mchenry-bowl-s-new-year-s-eve-celebration-12-31-2015-1331
END:VEVENT

END:VCALENDAR
