BEGIN:VCALENDAR
VERSION:2.0
PRODID:-//ChamberMaster//Event Calendar 2.0//EN
METHOD:PUBLISH
X-PUBLISHED-TTL:P3D
REFRESH-INTERVAL:P3D
CALSCALE:GREGORIAN
BEGIN:VEVENT
DTSTART:20160117T230000Z
DTEND:20160117T080000Z
X-MICROSOFT-CDO-ALLDAYEVENT:FALSE
SUMMARY:MCCA - RED PRIEST - Modesto Community Concert Association
DESCRIPTION:Red Priest is the only Baroque music group in the world to have been compared in the press to the Rolling Stones\, Jackson Pollock\, the Marx Brothers\, Spike Jones and Cirque du Soleil all rolled into one. This flamboyant acoustic foursome has been described as “visionary and heretical\,” “outrageous yet compulsive\,” “wholly irreverent and highly enlightened\,” “completely wild and deeply imaginative\,” with a “red-hot wicked sense of humor” and a “break-all-rules\, rock-chamber concert approach to Baroque music.” Visit www.redpriest.com to learn more.\nContact :	Gallo Center\nPhone :	209-338-2100\nEmail :	\nWeb Site :	galloarts.org
X-ALT-DESC;FMTTYPE=text/html:Red Priest is the only Baroque music group in the world to have been compared in the press to the Rolling Stones\, Jackson Pollock\, the Marx Brothers\, Spike Jones and Cirque du Soleil all rolled into one. This flamboyant acoustic foursome has been described as “visionary and heretical\,” “outrageous yet compulsive\,” “wholly irreverent and highly enlightened\,” “completely wild and deeply imaginative\,” with a “red-hot wicked sense of humor” and a “break-all-rules\, rock-chamber concert approach to Baroque music.” Visit www.redpriest.com to learn more.\nContact :	Gallo Center\nPhone :	209-338-2100\nEmail :	\nWeb Site :	galloarts.org
LOCATION:Gallo Center 1000 I St Modesto\, CA 95354
UID:e.2695.1343
SEQUENCE:3
DTSTAMP:20260419T174954Z
URL:https://business.modchamber.org/events/details/mcca-red-priest-modesto-community-concert-association-01-17-2016-1343
END:VEVENT

END:VCALENDAR
