BEGIN:VCALENDAR
VERSION:2.0
PRODID:-//ChamberMaster//Event Calendar 2.0//EN
METHOD:PUBLISH
X-PUBLISHED-TTL:P3D
REFRESH-INTERVAL:P3D
CALSCALE:GREGORIAN
BEGIN:VEVENT
DTSTART:20160417T220000Z
DTEND:20160417T070000Z
X-MICROSOFT-CDO-ALLDAYEVENT:FALSE
SUMMARY:MCCA - JAYME STONE-Modesto Community Concert Association
DESCRIPTION:Banjoist Jayme Stone\, winner of the 2014 Canadian Folk Music Festival instrumental artist of the year\, performs selections from his “Lomax Project” album. Stone’s music re-imagines songs collected by field recording pioneer Alan Lomax\, including the music of Bahamian sea chanties\, African-American a cappella singing from the Georgia Sea Islands\, Appalachian ballads\, fiddle tunes and work songs collected from both well-known musicians and such regular folk as muleskinners\, roustabouts\, prisoners\, homemakers and schoolchildren. Learn more at www.jaymestone.com.\nContact :	Gallo Center\nPhone :	209-338-2100\nEmail :	\nWeb Site :	galloarts.org
X-ALT-DESC;FMTTYPE=text/html:Banjoist Jayme Stone\, winner of the 2014 Canadian Folk Music Festival instrumental artist of the year\, performs selections from his “Lomax Project” album. Stone’s music re-imagines songs collected by field recording pioneer Alan Lomax\, including the music of Bahamian sea chanties\, African-American a cappella singing from the Georgia Sea Islands\, Appalachian ballads\, fiddle tunes and work songs collected from both well-known musicians and such regular folk as muleskinners\, roustabouts\, prisoners\, homemakers and schoolchildren. Learn more at www.jaymestone.com.\nContact :	Gallo Center\nPhone :	209-338-2100\nEmail :	\nWeb Site :	galloarts.org
LOCATION:Gallo Center 1000 I Street Modesto\, CA 95354
UID:e.2695.1484
SEQUENCE:3
DTSTAMP:20260419T141222Z
URL:https://business.modchamber.org/events/details/mcca-jayme-stone-modesto-community-concert-association-04-17-2016-1484
END:VEVENT

END:VCALENDAR
