BEGIN:VCALENDAR
VERSION:2.0
PRODID:-//ChamberMaster//Event Calendar 2.0//EN
METHOD:PUBLISH
X-PUBLISHED-TTL:P3D
REFRESH-INTERVAL:P3D
CALSCALE:GREGORIAN
BEGIN:VEVENT
DTSTART:20160320T220000Z
DTEND:20160320T070000Z
X-MICROSOFT-CDO-ALLDAYEVENT:FALSE
SUMMARY:MCCA - COLUMBIA KICKS BIG BAND-Modesto Community Concert Association
DESCRIPTION:Enjoy “An Afternoon of Big Band and Jazz” as director and saxophonist Rod Harris leads the Columbia Kicks Big Band from Sonora in this lively concert. A music teacher at Columbia College\, Harris has successfully built a strong following for the band throughout central California. The band plays jazz standards as well as hits from the swing era.\nContact :	Gallo Center\nPhone :	209-338-2100\nEmail :	\nWeb Site :	galloarts.org
X-ALT-DESC;FMTTYPE=text/html:Enjoy “An Afternoon of Big Band and Jazz” as director and saxophonist Rod Harris leads the Columbia Kicks Big Band from Sonora in this lively concert. A music teacher at Columbia College\, Harris has successfully built a strong following for the band throughout central California. The band plays jazz standards as well as hits from the swing era.\nContact :	Gallo Center\nPhone :	209-338-2100\nEmail :	\nWeb Site :	galloarts.org
LOCATION:Gallo Center 1000 I Street Modesto\, CA 95354
UID:e.2695.1472
SEQUENCE:3
DTSTAMP:20260419T154640Z
URL:https://business.modchamber.org/events/details/mcca-columbia-kicks-big-band-modesto-community-concert-association-03-20-2016-1472
END:VEVENT

END:VCALENDAR
