BEGIN:VCALENDAR
VERSION:2.0
PRODID:-//ChamberMaster//Event Calendar 2.0//EN
METHOD:PUBLISH
X-PUBLISHED-TTL:P3D
REFRESH-INTERVAL:P3D
CALSCALE:GREGORIAN
BEGIN:VEVENT
DTSTART:20150412T030000Z
DTEND:20150411T070000Z
X-MICROSOFT-CDO-ALLDAYEVENT:FALSE
SUMMARY:MC Yogi with DJ Drez
DESCRIPTION:In collaboration with Dr. Michael & Michaela Purnell and their new Yoga and Pilates Studio in McHenry Village\, we're bringing yoga superstar MC YOGI for a show and workshop!\n\nFrom headlining music festivals to teaching some of the biggest yoga classes in the world\, MC YOGI is widely becoming known as yoga's modern day ambassador to the West. MC YOGI’s music is inspired from India's great epic myths\, poems\, and sacred texts such as the Ramayana and the Bhagavad Gita. He's inspired by the life of Mahatma Ghandi and his message of peace. However\, with three #1 world albums and hundreds of appearances each year\, MC YOGI's beat-happy\, Krishna-crazed music is moving from the yoga community to large\, mainstream audiences. DJ Drez will join MC YOGI for this very special event.\nContact : 	Gallo Center\nPhone : 	209-338-2100\nEmail : 	\nWeb Site : 	galloarts.org
X-ALT-DESC;FMTTYPE=text/html:	In collaboration with Dr. Michael & Michaela Purnell and their new Yoga and Pilates Studio in McHenry Village\, we're bringing yoga superstar MC YOGI for a show and workshop!\n\nFrom headlining music festivals to teaching some of the biggest yoga classes in the world\, MC YOGI is widely becoming known as yoga's modern day ambassador to the West. MC YOGI’s music is inspired from India's great epic myths\, poems\, and sacred texts such as the Ramayana and the Bhagavad Gita. He's inspired by the life of Mahatma Ghandi and his message of peace. However\, with three #1 world albums and hundreds of appearances each year\, MC YOGI's beat-happy\, Krishna-crazed music is moving from the yoga community to large\, mainstream audiences. DJ Drez will join MC YOGI for this very special event.\nContact : 	Gallo Center\nPhone : 	209-338-2100\nEmail : 	\nWeb Site : 	galloarts.org
LOCATION:Gallo Center 1000 I St Modesto\, CA 95354
UID:e.2695.862
SEQUENCE:3
DTSTAMP:20260420T062754Z
URL:https://business.modchamber.org/events/details/mc-yogi-with-dj-drez-04-11-2015-862
END:VEVENT

END:VCALENDAR
