BEGIN:VCALENDAR
VERSION:2.0
PRODID:-//ChamberMaster//Event Calendar 2.0//EN
METHOD:PUBLISH
X-PUBLISHED-TTL:P3D
REFRESH-INTERVAL:P3D
CALSCALE:GREGORIAN
BEGIN:VEVENT
DTSTART:20160402T023000Z
DTEND:20160401T070000Z
X-MICROSOFT-CDO-ALLDAYEVENT:FALSE
SUMMARY:MAURICIO NADER
DESCRIPTION:The MJC MUSIC LIVES! Recital Series\n\nMexican pianist Mauricio Náder began performing at the age of nine years old and he has maintained an almost hyper-active career since\, playing at major venues across the American continents\, Europe\, the Middle East and the Far East. His interpretative warmth\, the power of his artistic personality and his ability to master an immense repertory ranging from the Baroque to contemporary music have led him to become one of today's Latin American musicians who most command the attention of concert organizers.\nContact : 	Gallo Center\nPhone : 	209-338-2100\nEmail : 	\nWeb Site : 	galloarts.org
X-ALT-DESC;FMTTYPE=text/html:The MJC MUSIC LIVES! Recital Series\n\nMexican pianist Mauricio Náder began performing at the age of nine years old and he has maintained an almost hyper-active career since\, playing at major venues across the American continents\, Europe\, the Middle East and the Far East. His interpretative warmth\, the power of his artistic personality and his ability to master an immense repertory ranging from the Baroque to contemporary music have led him to become one of today's Latin American musicians who most command the attention of concert organizers.\nContact : 	Gallo Center\nPhone : 	209-338-2100\nEmail : 	\nWeb Site : 	galloarts.org
LOCATION:Gallo Center 1000 I Street Modesto\, CA 95354
UID:e.2695.1608
SEQUENCE:3
DTSTAMP:20260419T140806Z
URL:https://business.modchamber.org/events/details/mauricio-nader-04-01-2016-1608
END:VEVENT

END:VCALENDAR
