BEGIN:VCALENDAR
VERSION:2.0
PRODID:-//ChamberMaster//Event Calendar 2.0//EN
METHOD:PUBLISH
X-PUBLISHED-TTL:P3D
REFRESH-INTERVAL:P3D
CALSCALE:GREGORIAN
BEGIN:VEVENT
DTSTART:20160731T020000Z
DTEND:20160731T040000Z
X-MICROSOFT-CDO-ALLDAYEVENT:FALSE
SUMMARY:Maurice Tani & 77 El Deora
DESCRIPTION:Modesto Unplugged and ModestoView present 'MUSIC AT THE GMC'\, an intimate acoustic series at the Gottschalk Music Center recital hall\, 1502 E St.\, Modesto.\n\n			\n\n			Maurice Tani is a "rye-to-romantic\, supercalifornigraphic" singer-songwriter specializing in a cinema-for-the-blind style\, featuring alternately aggressive and delicate guitar work. The sound is sometimes breathy acoustic\, sometimes searing electric\, sometimes both.\n\n			\n\n			Saturday July 30\n\n			Doors at 7:00\, concert at 7:30\n\n			$15 general admission / kids 12 and under free\n\n			To reserve seats: 209-543-5306 or modestounplugged@yahoo.com\n		\n		\n			Contact : \n			Gottschalk Music Center\n		\n		\n			Phone : \n			209-543-5306\n		\n		\n			Email : \n			 \n		\n		\n			Web Site :
X-ALT-DESC;FMTTYPE=text/html:<table border="0" cellpadding="0" cellspacing="2" width="500">\n	<tbody>\n		<tr>\n			<td>Modesto Unplugged and ModestoView present &lsquo\;MUSIC AT THE GMC&rsquo\;\, an intimate acoustic series at the Gottschalk Music Center recital hall\, 1502 E St.\, Modesto.<br />\n			<br />\n			Maurice Tani is a &quot\;rye-to-romantic\, supercalifornigraphic&quot\; singer-songwriter specializing in a cinema-for-the-blind style\, featuring alternately aggressive and delicate guitar work. The sound is sometimes breathy acoustic\, sometimes searing electric\, sometimes both.<br />\n			<br />\n			Saturday July 30<br />\n			Doors at 7:00\, concert at 7:30<br />\n			$15 general admission / kids 12 and under free<br />\n			To reserve seats: 209-543-5306 or modestounplugged@yahoo.com</td>\n		</tr>\n		<tr>\n			<td align="left" class="blue" valign="top"><strong>Contact : </strong></td>\n			<td>Gottschalk Music Center</td>\n		</tr>\n		<tr>\n			<td align="left" class="blue" valign="top"><strong>Phone : </strong></td>\n			<td>209-543-5306</td>\n		</tr>\n		<tr>\n			<td align="left" class="blue" valign="top"><strong>Email : </strong></td>\n			<td>&nbsp\;</td>\n		</tr>\n		<tr>\n			<td align="left" class="blue" valign="top"><strong>Web Site :&nbsp\;</strong></td>\n		</tr>\n	</tbody>\n</table>\n
LOCATION:Gottschalk Music Center 133 Burney Street Modesto\, Ca 953354
UID:e.2695.2288
SEQUENCE:3
DTSTAMP:20260419T103534Z
URL:https://business.modchamber.org/events/details/maurice-tani-77-el-deora-07-30-2016-2288
END:VEVENT

END:VCALENDAR
