BEGIN:VCALENDAR
VERSION:2.0
PRODID:-//ChamberMaster//Event Calendar 2.0//EN
METHOD:PUBLISH
X-PUBLISHED-TTL:P3D
REFRESH-INTERVAL:P3D
CALSCALE:GREGORIAN
BEGIN:VEVENT
DTSTART:20160114T030000Z
DTEND:20160113T080000Z
X-MICROSOFT-CDO-ALLDAYEVENT:FALSE
SUMMARY:MATH MAGIC - ARTHUR BENJAMIN
DESCRIPTION:DR. ARTHUR BENJAMIN\nMATHEMAGICIAN\n\nDr. Arthur Benjamin is a Professor of Mathematics at Harvey Mudd College in Claremont\, California. He is also a professional magician\, and in this entertaining and fast-paced performance\, Dr. Benjamin will demonstrate how to mentally add and multiply numbers faster than a calculator\, how to figure out the day of the week of any date in history\, and other amazing feats of mind. He is winner of the national teaching award from the Mathematical Association of America\, and was listed by Princeton Review as one America's Top 300 Professors.\nContact :	Gallo Center\nPhone :	209-338-2100\nEmail :	\nWeb Site :	galloarts.org
X-ALT-DESC;FMTTYPE=text/html:DR. ARTHUR BENJAMIN\nMATHEMAGICIAN\n\nDr. Arthur Benjamin is a Professor of Mathematics at Harvey Mudd College in Claremont\, California. He is also a professional magician\, and in this entertaining and fast-paced performance\, Dr. Benjamin will demonstrate how to mentally add and multiply numbers faster than a calculator\, how to figure out the day of the week of any date in history\, and other amazing feats of mind. He is winner of the national teaching award from the Mathematical Association of America\, and was listed by Princeton Review as one America's Top 300 Professors.\nContact :	Gallo Center\nPhone :	209-338-2100\nEmail :	\nWeb Site :	galloarts.org
LOCATION:Gallo Center 1000 I St Modesto\, CA 95354
UID:e.2695.1337
SEQUENCE:3
DTSTAMP:20260419T174158Z
URL:https://business.modchamber.org/events/details/math-magic-arthur-benjamin-01-13-2016-1337
END:VEVENT

END:VCALENDAR
