BEGIN:VCALENDAR
VERSION:2.0
PRODID:-//ChamberMaster//Event Calendar 2.0//EN
METHOD:PUBLISH
X-PUBLISHED-TTL:P3D
REFRESH-INTERVAL:P3D
CALSCALE:GREGORIAN
BEGIN:VEVENT
DTSTART:20151003T210000Z
DTEND:20151003T070000Z
X-MICROSOFT-CDO-ALLDAYEVENT:FALSE
SUMMARY:Math at The State by The Stanislaus Math Council
DESCRIPTION:The Stanislaus Math Council is excited to host its first Math at the State (MATHS) Sat. Oct. 3 at 2 p.m. MATHS highlights interesting careers that use mathematics and follows up that presentation with a fun movie. The speaker will be Adam Sidwell\, computer graphics artist\, and the accompanying movie is Toy Story III. \nIn addition to authoring the popular children's books Evertaster\, Fetch and Chum\, Sidwell creates computer graphics for movies such as Pirates of the Caribbean\, King Kong\, Pacific Rim\, Transformers\, and Tron. He will talk about how math is used in computer graphics. \n\nDoors at 1\; presentation at 2 p.m.\nAdmission: Adults $7\; children 12 and under $4\nContact :	State Theatre\nPhone :	BOX OFFICE (209) 527-4697\nEmail :	\nWeb Site :	thestate.org
X-ALT-DESC;FMTTYPE=text/html:	The Stanislaus Math Council is excited to host its first Math at the State (MATHS) Sat. Oct. 3 at 2 p.m. MATHS highlights interesting careers that use mathematics and follows up that presentation with a fun movie. The speaker will be Adam Sidwell\, computer graphics artist\, and the accompanying movie is Toy Story III. \nIn addition to authoring the popular children's books Evertaster\, Fetch and Chum\, Sidwell creates computer graphics for movies such as Pirates of the Caribbean\, King Kong\, Pacific Rim\, Transformers\, and Tron. He will talk about how math is used in computer graphics. \n\nDoors at 1\; presentation at 2 p.m.\nAdmission: Adults $7\; children 12 and under $4\nContact :	State Theatre\nPhone :	BOX OFFICE (209) 527-4697\nEmail :	\nWeb Site :	thestate.org
LOCATION:State Theatre 1307 J Street Modesto\, CA 95354
UID:e.2695.1212
SEQUENCE:3
DTSTAMP:20260419T230509Z
URL:https://business.modchamber.org/events/details/math-at-the-state-by-the-stanislaus-math-council-10-03-2015-1212
END:VEVENT

END:VCALENDAR
