BEGIN:VCALENDAR
VERSION:2.0
PRODID:-//ChamberMaster//Event Calendar 2.0//EN
METHOD:PUBLISH
X-PUBLISHED-TTL:P3D
REFRESH-INTERVAL:P3D
CALSCALE:GREGORIAN
BEGIN:VEVENT
DTSTART:20150405T030000Z
DTEND:20150404T070000Z
X-MICROSOFT-CDO-ALLDAYEVENT:FALSE
SUMMARY:Masters of Soul
DESCRIPTION:Masters of Soul has been called the most entertaining history lesson ever performed! This show authentically reproduces the look\, choreography\, style and sound made famous by some of the most influential recording artists in history. Masters of Soul presents the hits of The Temptations\, Gladys Knight & The Pips\, Marvin Gaye & Tammi Terrell\, Smokey Robinson & the Miracles\, The Four Tops\, Diana Ross & The Supremes\, The Jackson Five\, Martha Reeves & the Vandellas\, Stevie Wonder\, Wilson Pickett\, Lou Rawls\, Barry White\, The Commodores\, Arthur Conley\, and more\, in one breathtaking evening!\nContact :	Gallo Center\nPhone :	209-338-2100\nEmail :	\nWeb Site :	galloarts.org
X-ALT-DESC;FMTTYPE=text/html:Masters of Soul has been called the most entertaining history lesson ever performed! This show authentically reproduces the look\, choreography\, style and sound made famous by some of the most influential recording artists in history. Masters of Soul presents the hits of The Temptations\, Gladys Knight & The Pips\, Marvin Gaye & Tammi Terrell\, Smokey Robinson & the Miracles\, The Four Tops\, Diana Ross & The Supremes\, The Jackson Five\, Martha Reeves & the Vandellas\, Stevie Wonder\, Wilson Pickett\, Lou Rawls\, Barry White\, The Commodores\, Arthur Conley\, and more\, in one breathtaking evening!\nContact :	Gallo Center\nPhone :	209-338-2100\nEmail :	\nWeb Site :	galloarts.org
LOCATION:Gallo Center 1000 I Street Modesto\, CA 95354
UID:e.2695.832
SEQUENCE:3
DTSTAMP:20260420T073858Z
URL:https://business.modchamber.org/events/details/masters-of-soul-04-04-2015-832
END:VEVENT

END:VCALENDAR
