BEGIN:VCALENDAR
VERSION:2.0
PRODID:-//ChamberMaster//Event Calendar 2.0//EN
METHOD:PUBLISH
X-PUBLISHED-TTL:P3D
REFRESH-INTERVAL:P3D
CALSCALE:GREGORIAN
BEGIN:VEVENT
DTSTART:20150725T220000Z
DTEND:20150725T070000Z
X-MICROSOFT-CDO-ALLDAYEVENT:FALSE
SUMMARY:Mary Poppins
DESCRIPTION:Mary Poppins is an enchanting mixture of irresistible story\, unforgettable songs\, breathtaking dance numbers\, and astonishing stagecraft. This show is a perfect opportunity to showcase a strong\, iconic female performer\, as well as unique special effects and illusions. Based on the books by P.L. Travers and the classic Walt Disney film\, Disney and Cameron Mackintosh's Mary Poppins.\nContact :	Gallo Center\nPhone :	209-338-2100\nEmail :	\nWeb Site :	galloarts.org
X-ALT-DESC;FMTTYPE=text/html:	Mary Poppins is an enchanting mixture of irresistible story\, unforgettable songs\, breathtaking dance numbers\, and astonishing stagecraft. This show is a perfect opportunity to showcase a strong\, iconic female performer\, as well as unique special effects and illusions. Based on the books by P.L. Travers and the classic Walt Disney film\, Disney and Cameron Mackintosh's Mary Poppins.\nContact :	Gallo Center\nPhone :	209-338-2100\nEmail :	\nWeb Site :	galloarts.org\n
LOCATION:Gallo Center 1000 I St Modesto\, CA 95354
UID:e.2695.1041
SEQUENCE:3
DTSTAMP:20260420T031800Z
URL:https://business.modchamber.org/events/details/mary-poppins-07-25-2015-1041
END:VEVENT

END:VCALENDAR
