BEGIN:VCALENDAR
VERSION:2.0
PRODID:-//ChamberMaster//Event Calendar 2.0//EN
METHOD:PUBLISH
X-PUBLISHED-TTL:P3D
REFRESH-INTERVAL:P3D
CALSCALE:GREGORIAN
BEGIN:VEVENT
DTSTART:20150315T023000Z
DTEND:20150314T070000Z
X-MICROSOFT-CDO-ALLDAYEVENT:FALSE
SUMMARY:Mark Nizer
DESCRIPTION:MARK NIZER: 3D COMEDY   or even juggling a burning propane tank\, a running electric carving knife and a 16-pound bowling ball\, you'll discover for yourself that Mark Nizer is truly "the juggler your mother warned you about." Or if she didn't\, she should have. \n\nEach ticket comes with a pair of 3D glasses.\nContact :	Gallo Center\nPhone :	209-338-2100\nEmail :	\nWeb Site :	galloarts.org
X-ALT-DESC;FMTTYPE=text/html:	MARK NIZER: 3D COMEDY & JUGGLING\n\nMark Nizer is one of the greatest comedy jugglers performing today\, and this is the only live 3D show in the world! Whether juggling laser beams at 1000 rpms\, or five ping pong balls being thrown 20 feet in the air using only his mouth\; or even juggling a burning propane tank\, a running electric carving knife and a 16-pound bowling ball\, you'll discover for yourself that Mark Nizer is truly "the juggler your mother warned you about." Or if she didn't\, she should have. \n\nEach ticket comes with a pair of 3D glasses.\nContact :	Gallo Center\nPhone :	209-338-2100\nEmail :	\nWeb Site :	galloarts.org
LOCATION:Gallo Center 1000 I Street Modesto\, CA 95354
UID:e.2695.792
SEQUENCE:3
DTSTAMP:20260420T073438Z
URL:https://business.modchamber.org/events/details/mark-nizer-03-14-2015-792
END:VEVENT

END:VCALENDAR
