BEGIN:VCALENDAR
VERSION:2.0
PRODID:-//ChamberMaster//Event Calendar 2.0//EN
METHOD:PUBLISH
X-PUBLISHED-TTL:P3D
REFRESH-INTERVAL:P3D
CALSCALE:GREGORIAN
BEGIN:VEVENT
DTSTART:20150510T210000Z
DTEND:20150510T070000Z
X-MICROSOFT-CDO-ALLDAYEVENT:FALSE
SUMMARY:Mariachi Vargas De Tecalitlan
DESCRIPTION:The first incarnation of the group Mariachi Vargas de Tecalitlán began in 1898 as a quartet\, and over the decades (and into the 21st century) the ensemble would become one of the most important in Mexican music history. They are renowned as the definitive mariachi ensemble. Mariachi Vargas de Tecatitlán's classic sound has won the group numerous awards and accolades\, including the title of "World's Best Mariachi\," since the 1950s.\nContact :	Gallo Center\nPhone :	209-338-2100\nEmail :	\nWeb Site :	galloarts.org
X-ALT-DESC;FMTTYPE=text/html:	The first incarnation of the group Mariachi Vargas de Tecalitlán began in 1898 as a quartet\, and over the decades (and into the 21st century) the ensemble would become one of the most important in Mexican music history. They are renowned as the definitive mariachi ensemble. Mariachi Vargas de Tecatitlán's classic sound has won the group numerous awards and accolades\, including the title of "World's Best Mariachi\," since the 1950s.\nContact :	Gallo Center\nPhone :	209-338-2100\nEmail :	\nWeb Site :	galloarts.org
LOCATION:Gallo Center 1000 I St Modesto\, CA 95354
UID:e.2695.930
SEQUENCE:3
DTSTAMP:20260420T045501Z
URL:https://business.modchamber.org/events/details/mariachi-vargas-de-tecalitlan-05-10-2015-930
END:VEVENT

END:VCALENDAR
