BEGIN:VCALENDAR
VERSION:2.0
PRODID:-//ChamberMaster//Event Calendar 2.0//EN
METHOD:PUBLISH
X-PUBLISHED-TTL:P3D
REFRESH-INTERVAL:P3D
CALSCALE:GREGORIAN
BEGIN:VEVENT
DTSTART:20151121T040000Z
DTEND:20151120T080000Z
X-MICROSOFT-CDO-ALLDAYEVENT:FALSE
SUMMARY:MARIACHI LOS CAMPEROS
DESCRIPTION:MARIACHI LOS CAMPEROS DE NATI CANO\n\nThe have performed at Lincoln Center and the Metropolitan Museum of Art. They have played for President Bill Clinton and Hillary Clinton at the White House. They accompanied Linda Ronstadt on two of her albums\, and Beck on one of his. They even had a cameo role in the film “Sex and the City.” And now\, one of the most beloved ensembles in this musical genre for more than 50 years\, Mariachi Los Camperos de Nati Cano\, will make its long-awaited debut at the Gallo Center. Join us for this celebration of Mexico’s rich vocal traditions and some its greatest Mariachi songs!\nContact :	Gallo Center\nPhone :	209-338-2100\nEmail :	\nWeb Site :	galloarts.org
X-ALT-DESC;FMTTYPE=text/html:MARIACHI LOS CAMPEROS DE NATI CANO\n\nThe have performed at Lincoln Center and the Metropolitan Museum of Art. They have played for President Bill Clinton and Hillary Clinton at the White House. They accompanied Linda Ronstadt on two of her albums\, and Beck on one of his. They even had a cameo role in the film “Sex and the City.” And now\, one of the most beloved ensembles in this musical genre for more than 50 years\, Mariachi Los Camperos de Nati Cano\, will make its long-awaited debut at the Gallo Center. Join us for this celebration of Mexico’s rich vocal traditions and some its greatest Mariachi songs!\nContact :	Gallo Center\nPhone :	209-338-2100\nEmail :	\nWeb Site :	galloarts.org
LOCATION:Gallo Center 1000 I St Modesto\, CA 95354
UID:e.2695.1269
SEQUENCE:3
DTSTAMP:20260419T203515Z
URL:https://business.modchamber.org/events/details/mariachi-los-camperos-11-20-2015-1269
END:VEVENT

END:VCALENDAR
