BEGIN:VCALENDAR
VERSION:2.0
PRODID:-//ChamberMaster//Event Calendar 2.0//EN
METHOD:PUBLISH
X-PUBLISHED-TTL:P3D
REFRESH-INTERVAL:P3D
CALSCALE:GREGORIAN
BEGIN:VEVENT
DTSTART:20150321T210000Z
DTEND:20150321T070000Z
X-MICROSOFT-CDO-ALLDAYEVENT:FALSE
SUMMARY:Mariachi Girl
DESCRIPTION:Mariachi Girl is a new bi-lingual Spanish-English musical for children and family audiences. Young Carmencita dreams of being in her father’s Mariachi band\, but her father insists that mariachi groups can only include men. When Carmencita reads a book about a famous female mariachi it expands her world and her notion of what is possible. Full of vibrant original mariachi music from a live band\, the story explores how one girl can challenge her identity in a modern society while embracing her rich heritage. Liliana Hernandez\, a graduate of Johansen High School who now attends Cal State University-Stanislaus\, plays the Mariachi Girl in this Gallo Center production! \nContact :	Gallo Center\nPhone :	209-338-2100\nEmail :	\nWeb Site :	galloarts.org
X-ALT-DESC;FMTTYPE=text/html:Mariachi Girl is a new bi-lingual Spanish-English musical for children and family audiences. Young Carmencita dreams of being in her father’s Mariachi band\, but her father insists that mariachi groups can only include men. When Carmencita reads a book about a famous female mariachi it expands her world and her notion of what is possible. Full of vibrant original mariachi music from a live band\, the story explores how one girl can challenge her identity in a modern society while embracing her rich heritage. Liliana Hernandez\, a graduate of Johansen High School who now attends Cal State University-Stanislaus\, plays the Mariachi Girl in this Gallo Center production! \nContact :	Gallo Center\nPhone :	209-338-2100\nEmail :	\nWeb Site :	galloarts.org
LOCATION:Gallo Center 1000 I Street Modesto\, CA 95354
UID:e.2695.815
SEQUENCE:3
DTSTAMP:20260420T073913Z
URL:https://business.modchamber.org/events/details/mariachi-girl-03-21-2015-815
END:VEVENT

END:VCALENDAR
