BEGIN:VCALENDAR
VERSION:2.0
PRODID:-//ChamberMaster//Event Calendar 2.0//EN
METHOD:PUBLISH
X-PUBLISHED-TTL:P3D
REFRESH-INTERVAL:P3D
CALSCALE:GREGORIAN
BEGIN:VEVENT
DTSTART:20150228T030000Z
DTEND:20150228T070000Z
X-MICROSOFT-CDO-ALLDAYEVENT:FALSE
SUMMARY:Mardi Gras & Casino Night Fundraiser
DESCRIPTION:Latino Community Roundtable is hosting Mardi Gras & Casino Night Fundraiser Tickets$5.00ea or 4 for $20 - LCR Members $10.00 - NonMembers  Come dressed for Mardo Gras!! Don't forget your beads and masks! No Mask? Chicanita Designs will have some for sale on site!  Casino Tables: Craps\, Black Jack\, and Roulette  Dance to DJ MarcusComplimentary AppetizersAll ages welcome Prizes No-Host BarContest best dressed  ** Benefiting LCR Back Pack Contact LCR with any questions209-303-2664 maggiemejialcr@gmail.comwww.lcrstan.org
X-ALT-DESC;FMTTYPE=text/html:<DIV style="FONT-FAMILY: Arial">Latino Community Roundtable is hosting Mardi Gras &amp\; Casino Night Fundraiser</DIV><DIV style="FONT-FAMILY: Arial">&nbsp\;</DIV><DIV style="FONT-FAMILY: Arial"><U><STRONG>Tickets</STRONG></U></DIV><DIV style="FONT-FAMILY: Arial">$5.00ea or 4 for $20 - LCR Members </DIV><DIV style="FONT-FAMILY: Arial">$10.00 - NonMembers </DIV><DIV style="FONT-FAMILY: Arial">&nbsp\;</DIV><DIV style="FONT-FAMILY: Arial">Come dressed for Mardo Gras!! Don't forget your beads and masks! No Mask? Chicanita Designs will have some for sale on site! </DIV><DIV style="FONT-FAMILY: Arial">&nbsp\;</DIV><DIV style="FONT-FAMILY: Arial">Casino Tables: Craps\, Black Jack\, and Roulette </DIV><DIV style="FONT-FAMILY: Arial">&nbsp\;</DIV><DIV style="FONT-FAMILY: Arial">Dance to DJ Marcus</DIV><DIV style="FONT-FAMILY: Arial">Complimentary Appetizers</DIV><DIV style="FONT-FAMILY: Arial">All ages welcome </DIV><DIV style="FONT-FAMILY: Arial">Prizes </DIV><DIV style="FONT-FAMILY: Arial">No-Host Bar</DIV><DIV style="FONT-FAMILY: Arial">Contest best dressed </DIV><DIV style="FONT-FAMILY: Arial">&nbsp\;</DIV><DIV style="FONT-FAMILY: Arial">** Benefiting LCR Back Pack</DIV><DIV style="FONT-FAMILY: Arial">&nbsp\;</DIV><DIV style="FONT-FAMILY: Arial">Contact LCR with any questions</DIV><DIV style="FONT-FAMILY: Arial">209-303-2664 </DIV><DIV style="FONT-FAMILY: Arial"><A href="mailto:maggiemejialcr@gmail.com">maggiemejialcr@gmail.com</A></DIV><DIV style="FONT-FAMILY: Arial">www.lcrstan.org</DIV>
LOCATION:Red Event Center 928 8th Street Modesto\, CA
UID:e.2695.775
SEQUENCE:3
DTSTAMP:20260422T090707Z
URL:https://business.modchamber.org/events/details/mardi-gras-casino-night-fundraiser-02-27-2015-775
END:VEVENT

END:VCALENDAR
