BEGIN:VCALENDAR
VERSION:2.0
PRODID:-//ChamberMaster//Event Calendar 2.0//EN
METHOD:PUBLISH
X-PUBLISHED-TTL:P3D
REFRESH-INTERVAL:P3D
CALSCALE:GREGORIAN
BEGIN:VEVENT
DTSTART:20160430T160000Z
DTEND:20160430T070000Z
X-MICROSOFT-CDO-ALLDAYEVENT:FALSE
SUMMARY:March for Babies - Modesto 2016
DESCRIPTION:Date: Saturday\, April 30\, 2016\nTime: 9:00AM\nRegistration Time: 8:00AM \nGraceada Park\n401 Needham St\nModesto\, CA 95354\n\nWe're getting ready to walk in March for Babies! It promises to be a fun day out with people who share our passion for improving the health of babies. There'll be family teams\, company teams and people walking with friends - it's a great feeling knowing we're all helping real families. Join our event and walk with us to raise money for babies right here in our community!\nContact :	March of Dimes\nPhone :	(209) 522-5626\nEmail :	\nWeb Site :	http://www.marchofdimes.org
X-ALT-DESC;FMTTYPE=text/html:Date: Saturday\, April 30\, 2016\nTime: 9:00AM\nRegistration Time: 8:00AM \nGraceada Park\n401 Needham St\nModesto\, CA 95354\n\nWe're getting ready to walk in March for Babies! It promises to be a fun day out with people who share our passion for improving the health of babies. There'll be family teams\, company teams and people walking with friends - it's a great feeling knowing we're all helping real families. Join our event and walk with us to raise money for babies right here in our community!\nContact :	March of Dimes\nPhone :	(209) 522-5626\nEmail :	\nWeb Site :	http://www.marchofdimes.org
LOCATION:Graceada Park 401 Needham Ave Modesto\, CA 95354
UID:e.2695.1494
SEQUENCE:3
DTSTAMP:20260419T152601Z
URL:https://business.modchamber.org/events/details/march-for-babies-modesto-2016-04-30-2016-1494
END:VEVENT

END:VCALENDAR
