BEGIN:VCALENDAR
VERSION:2.0
PRODID:-//ChamberMaster//Event Calendar 2.0//EN
METHOD:PUBLISH
X-PUBLISHED-TTL:P3D
REFRESH-INTERVAL:P3D
CALSCALE:GREGORIAN
BEGIN:VEVENT
DTSTART:20150425T150000Z
DTEND:20150425T070000Z
X-MICROSOFT-CDO-ALLDAYEVENT:FALSE
SUMMARY:March for Babies - Modesto 2015
DESCRIPTION:We're getting ready to walk in March for Babies! It promises to be a fun day out with people who share our passion for improving the health of babies. There'll be family teams\, company teams and people walking with friends - it's a great feeling knowing we're all helping real families. Join our event and walk with us to raise money for babies right here in our community!\n\nFrom McHenry: Needham runs off of McHenry and Graceada is on the right hand side. It’s on the corner of Needham and Park.\n\nParking is free. It does become congested so be prepared to walk a distance to the park if arriving late.\n\nIn general pets are allowed. However\, no Pit Bulls of any kind are allowed.\nContact : 	\nPhone : 	(209) 522-5626\nEmail : 	CA608@marchofdimes.com\nWeb Site : 	www.marchforbabies.org
X-ALT-DESC;FMTTYPE=text/html:	We're getting ready to walk in March for Babies! It promises to be a fun day out with people who share our passion for improving the health of babies. There'll be family teams\, company teams and people walking with friends - it's a great feeling knowing we're all helping real families. Join our event and walk with us to raise money for babies right here in our community!\n\nFrom McHenry: Needham runs off of McHenry and Graceada is on the right hand side. It’s on the corner of Needham and Park.\n\nParking is free. It does become congested so be prepared to walk a distance to the park if arriving late.\n\nIn general pets are allowed. However\, no Pit Bulls of any kind are allowed.\nContact : 	\nPhone : 	(209) 522-5626\nEmail : 	CA608@marchofdimes.com\nWeb Site : 	www.marchforbabies.org
LOCATION:Graceada Park 401 Needham Ave Modessto\, CA 95354
UID:e.2695.891
SEQUENCE:3
DTSTAMP:20260420T062809Z
URL:https://business.modchamber.org/events/details/march-for-babies-modesto-2015-04-25-2015-891
END:VEVENT

END:VCALENDAR
