BEGIN:VCALENDAR
VERSION:2.0
PRODID:-//ChamberMaster//Event Calendar 2.0//EN
METHOD:PUBLISH
X-PUBLISHED-TTL:P3D
REFRESH-INTERVAL:P3D
CALSCALE:GREGORIAN
BEGIN:VEVENT
DTSTART:20150928T040000Z
DTEND:20150927T070000Z
X-MICROSOFT-CDO-ALLDAYEVENT:FALSE
SUMMARY:Marc Atkinson Trio
DESCRIPTION:Fiery\, Flawless\, Melodic Blend of Musical Influences\n\nOne of Canada’s most talented musicians\, Marc Atkinson takes time off from The Bills to return with his Trio\, performing music that is melodically captivating\, sensually charged\, and ferociously\, technically awe-inspiring. Marc’s fiery\, elegant style is infused with a catchy blend of influences\, while he maintains the laidback humor and casual “good time feel” of Canada’s West Coast.\nContact :	Congregation Beth Shalom\nPhone :	(209) 571-6060\nEmail :	\nWeb Site :	http://sundaysatcbs.com/
X-ALT-DESC;FMTTYPE=text/html:Fiery\, Flawless\, Melodic Blend of Musical Influences\n\nOne of Canada’s most talented musicians\, Marc Atkinson takes time off from The Bills to return with his Trio\, performing music that is melodically captivating\, sensually charged\, and ferociously\, technically awe-inspiring. Marc’s fiery\, elegant style is infused with a catchy blend of influences\, while he maintains the laidback humor and casual “good time feel” of Canada’s West Coast.\nContact :	Congregation Beth Shalom\nPhone :	(209) 571-6060\nEmail :	\nWeb Site :	http://sundaysatcbs.com/
LOCATION:Congregation Beth Shalom 1705 Sherwood Ave Modesto\, CA 95355
UID:e.2695.1166
SEQUENCE:3
DTSTAMP:20260419T193941Z
URL:https://business.modchamber.org/events/details/marc-atkinson-trio-09-27-2015-1166
END:VEVENT

END:VCALENDAR
