BEGIN:VCALENDAR
VERSION:2.0
PRODID:-//ChamberMaster//Event Calendar 2.0//EN
METHOD:PUBLISH
X-PUBLISHED-TTL:P3D
REFRESH-INTERVAL:P3D
CALSCALE:GREGORIAN
BEGIN:VEVENT
DTSTART:20151128T220000Z
DTEND:20151129T040000Z
X-MICROSOFT-CDO-ALLDAYEVENT:FALSE
SUMMARY:MANNHEIM STEAMROLLER CHRISTMAS
DESCRIPTION:Experience the magic! Mannheim Steamroller Christmas by Chip Davis has been America’s favorite holiday tradition and this year marks the 30th Anniversary of the group’s annual tour. Grammy Award winner Chip Davis has created a show that features the beloved Christmas music of Mannheim Steamroller along with dazzling multimedia effects performed in an intimate setting. The spirit of the season comes alive with the signature sound of Mannheim Steamroller music.\nContact :	Gallo Center\nPhone :	209-338-2100\nEmail :	\nWeb Site :	galloarts.org
X-ALT-DESC;FMTTYPE=text/html:Experience the magic! Mannheim Steamroller Christmas by Chip Davis has been America’s favorite holiday tradition and this year marks the 30th Anniversary of the group’s annual tour. Grammy Award winner Chip Davis has created a show that features the beloved Christmas music of Mannheim Steamroller along with dazzling multimedia effects performed in an intimate setting. The spirit of the season comes alive with the signature sound of Mannheim Steamroller music.\nContact :	Gallo Center\nPhone :	209-338-2100\nEmail :	\nWeb Site :	galloarts.org
LOCATION:Gallo Center 1000 I St Modesto\, CA 95354
UID:e.2695.1277
SEQUENCE:3
DTSTAMP:20260419T203515Z
URL:https://business.modchamber.org/events/details/mannheim-steamroller-christmas-11-28-2015-1277
END:VEVENT

END:VCALENDAR
