BEGIN:VCALENDAR
VERSION:2.0
PRODID:-//ChamberMaster//Event Calendar 2.0//EN
METHOD:PUBLISH
X-PUBLISHED-TTL:P3D
REFRESH-INTERVAL:P3D
CALSCALE:GREGORIAN
BEGIN:VEVENT
DTSTART:20151021T020000Z
DTEND:20151020T070000Z
X-MICROSOFT-CDO-ALLDAYEVENT:FALSE
SUMMARY:MAMA Awards 2015
DESCRIPTION:The MAMA’s is a special awards celebration to recognize the best new talent and the events and venues where they can play and show the world that the Modesto Area is a place for music\, arts and entertainments. It is such a positive message for our community and it is the one night where the entire music industry can get together and celebrate as a whole.\nContact :	\nPhone :	\nEmail :	\nWeb Site :	www.modestoareamusic.com
X-ALT-DESC;FMTTYPE=text/html:The MAMA’s is a special awards celebration to recognize the best new talent and the events and venues where they can play and show the world that the Modesto Area is a place for music\, arts and entertainments. It is such a positive message for our community and it is the one night where the entire music industry can get together and celebrate as a whole.\nContact :	\nPhone :	\nEmail :	\nWeb Site :	www.modestoareamusic.com\n
LOCATION:State Theatre 1307 J St Modesto\, CA 95354
UID:e.2695.1239
SEQUENCE:3
DTSTAMP:20260419T214409Z
URL:https://business.modchamber.org/events/details/mama-awards-2015-10-20-2015-1239
END:VEVENT

END:VCALENDAR
