BEGIN:VCALENDAR
VERSION:2.0
PRODID:-//ChamberMaster//Event Calendar 2.0//EN
METHOD:PUBLISH
X-PUBLISHED-TTL:P3D
REFRESH-INTERVAL:P3D
CALSCALE:GREGORIAN
BEGIN:VEVENT
DTSTART:20150324T020000Z
DTEND:20150323T070000Z
X-MICROSOFT-CDO-ALLDAYEVENT:FALSE
SUMMARY:Malo / Tierra in Concert
DESCRIPTION:Reynoso & Associates Presents: Malo and Tierra\n\nDoors Open at 7PM and Show begins at 8PM\nFor information \n\n\n\nor booth reservations call 209-524-1400 or 209-312-3463\nContact :	Fat Cat Music House & Lounge\nPhone :	209-312-.3463\nEmail :	\nWeb Site :
X-ALT-DESC;FMTTYPE=text/html:Reynoso & Associates Presents: Malo and Tierra\n\nDoors Open at 7PM and Show begins at 8PM\nFor information \n\n\n\nor booth reservations call 209-524-1400 or 209-312-3463\nContact :	Fat Cat Music House & Lounge\nPhone :	209-312-.3463\nEmail :	\nWeb Site :
LOCATION:Fat Cat Music House & Lounge 930 11th Street Modesto\, CA 95354
UID:e.2695.819
SEQUENCE:3
DTSTAMP:20260420T074142Z
URL:https://business.modchamber.org/events/details/malo-tierra-in-concert-03-23-2015-819
END:VEVENT

END:VCALENDAR
