BEGIN:VCALENDAR
VERSION:2.0
PRODID:-//ChamberMaster//Event Calendar 2.0//EN
METHOD:PUBLISH
X-PUBLISHED-TTL:P3D
REFRESH-INTERVAL:P3D
CALSCALE:GREGORIAN
BEGIN:VEVENT
DTSTART:20150812T140000Z
DTEND:20150812T160000Z
X-MICROSOFT-CDO-ALLDAYEVENT:FALSE
SUMMARY:Making Strides Against Breast Cancer Kickoff Breakfast
DESCRIPTION:Join us for our FREE kickoff breakfast for the Making Strides Against Breast Cancer Walk\; this is the starting point for the year’s fundraising as well as an informational meeting for the Making Strides Walk.
X-ALT-DESC;FMTTYPE=text/html:Join us for our FREE kickoff breakfast for the Making Strides Against Breast Cancer Walk\; this is the starting point for the year’s fundraising as well as an informational meeting for the Making Strides Walk.
LOCATION:Doubletree Hotel 1150 9th St Modesto\, CA 95354
UID:e.2695.1115
SEQUENCE:3
DTSTAMP:20260420T003257Z
URL:https://business.modchamber.org/events/details/making-strides-against-breast-cancer-kickoff-breakfast-08-12-2015-1115
END:VEVENT

END:VCALENDAR
